Workbook

Sheet RP - Detail  Progress
A1: විහාරස්ථාන සංවර්ධනය -2025
A3: Physical and Financial Progress as at 30.06.2025
A4: District:-Gampaha
A5: Divisional Secreteriat- | D5: Aththanagalla
A6: No. | B6: ග්‍රාම නිලධාරි වසම | C6: ව්‍යාපෘති අංකය | D6: Name of the Project | E6: Approved Amount (Rs) | F6: Project Estimated Cost | G6: contract Amount | H6: ** Physical Progress (No. of Projects) | S6: Expenditure (Rs. ) | T6: Bills in hand (Rs.) | U6: No. of Beneficiaries
H7: A | I7: B | M7: C | N7: D | O7: E | P7: F | Q7: G
I8: Estimates Approved & Bid Documents Approved (B 1) | J8: Quotation / Bid called (B 2) | K8: Quotation / Bid Received (B 3) | L8: Contract Awarded (B 4) | Q8: Construction | R8: Goods & Services
B10: කිත්තම්මහර | C10: MBRCA/RBT/2025/GAM/03 | D10: කිත්තම්මහර දස්සනාරාමයේ ආවාසගෙය අලුත්වැඩියා කිරීම | E10: 500000 | F10: 500000 | I10: 1
B11: කඹුරාගල්ල | C11: MBRCA/RBT/2025/GAM/04 | D11: කඹුරාගල්ල ශ්‍රී බෝධිරුක්ඛාරාමයේ සංඝාවාසයේ කාමරයක් ටයිල් කිරීම හා සිවිලිම සකස කර ගැනීම | E11: 500000 | F11: 500000 | I11: 1
B12: උඩුගොඩ | C12: MBRCA/RBT/2025/GAM/05 | D12: උඩුගොඩ ශ්‍රී තපෝදාරාමයේ බණ මඩුවේ වහලය පිළිසකර කර ගැනීම | E12: 500000 | F12: 500000 | I12: 1
A13: Sub total | E13: =SUM(E10:E12) -> 1500000 | F13: =SUM(F10:F12) -> 1500000 | I13: =SUM(I10:I12) -> 3
A14: Admin cost
A15: Total
O18: =2/4*100 -> 50

Sheet RP Sector
A2: Piriven Development Programme - 2024
A3: Physical and Financial Progress as at 28th October 2024
A4: District:-Gampaha
B5: Divisional Secreteriat- | C5: Aththanagalla | P5: Sector Progress
A6: SN | B6: Sector | C6: No of Project | D6: Project Estimated Cost | E6: contract Amount | F6: Physical Progress (c) | Q6: Expenditure (Rs. ) | R6: Bills in hand (Rs.) | S6: No. of Beneficiaries
F7: A | G7: B | K7: C | L7: D | M7: E | N7: F | O7: G
G8: B -1 | H8: B -2 | I8: B-3 | J8: B-4
F9: Estimates are being/ to be prepared | G9: Estimate Approved & Bid Document Approved | H9: Quotation / Bid Called | I9: Quotation / Bid Received | J9: Contract Awarded | K9: 26-40% | L9: 41-60% | M9: 61-80% | N9: 81-99% | O9: Construction | P9: Goods & Services
A10: 1 | B10: PP - Previous Projects Continuation
A11: 2 | B11: TD -Tourism development
A12: 3 | B12: DWS - drinking Water supply
A13: 4 | B13: EL-Electricity
A14: 5 | B14: RA-Rural Access
A15: 6 | B15: MD-Market Development such as Kadamandi/Weekly Fair/Sales Centers
A16: 7 | B16: E&H-Education & Health
A17: 8 | B17: P&L-Play Ground & Library
A18: 9 | B18: MI-Minor Irigation
A19: 10 | B19: AD-Agricultural Development
A20: 11 | B20: CD-Community Development
A21: 12 | B21: R&C-Relegious & Cultural Development | C21: 4 | D21: ='RP - Detail Progress'!E13 -> 1500000 | E21: ='RP - Detail Progress'!G13 -> 0 | F21: ='RP - Detail Progress'!H13 -> 0 | G21: ='RP - Detail Progress'!I13 -> 3 | H21: ='RP - Detail Progress'!J13 -> 0 | I21: ='RP - Detail Progress'!K13 -> 0 | J21: ='RP - Detail Progress'!L13 -> 0 | K21: ='RP - Detail Progress'!M13 -> 0 | L21: ='RP - Detail Progress'!N13 -> 0 | ... P21: ='RP - Detail Progress'!R13 -> 0 | Q21: 642669.93 | R21: 0
A22: 13 | B22: CP-Community Protection
A23: 14 | B23: EPF-Emprowering of Poor Families
A24: 15 | B24: ED- Enterpreneurship Development
A25: 16 | B25: DM-Disaster Management
A26: 17 | B26: RA- Rural Economy
A27: 18 | B27: OD-Other Development
A28: Sub Total | C28: =C21 -> 4 | D28: =D21 -> 1500000 | E28: =E21 -> 0 | F28: =F21 -> 0 | G28: ='RP - Detail Progress'!I13 -> 3 | H28: ='RP - Detail Progress'!J13 -> 0 | I28: ='RP - Detail Progress'!K13 -> 0 | J28: ='RP - Detail Progress'!L13 -> 0 | K28: ='RP - Detail Progress'!M13 -> 0 | L28: ='RP - Detail Progress'!N13 -> 0 | M28: ='RP - Detail Progress'!O13 -> 0 | N28: ='RP - Detail Progress'!P13 -> 0 | O28: ='RP - Detail Progress'!Q13 -> 0 | P28: =P21 -> 0 | Q28: =SUM(Q10:Q27) -> 642669.93 | R28: =SUM(R10:R27) -> 0
A29: Admin cost | R29: 0
A30: Total | C30: =C28 -> 4 | D30: =D28 -> 1500000 | E30: =E28 -> 0 | F30: =F28 -> 0 | G30: =G28 -> 3 | H30: =H28 -> 0 | I30: =I28 -> 0 | J30: =J28 -> 0 | ... P30: =P28 -> 0 | Q30: =Q28+Q29 -> 642669.93 | R30: =R28+R29 -> 0

Sheet RP Authority
A1: පිරිවෙන් සංවර්ධනය
A2: Piriven Development Programme - 2024
A3: Physical and Financial Progress as at at 28th October 2024
A4: District:-Gampaha
B5: Divisional Secreteriat- Aththanagalla | P5: Authority Progress
A6: SN | B6: Authority | C6: No of Project | D6: Approved Amount (Rs) | E6: Project Estimated Cost | F6: contract Amount | G6: Physical Progress (c) | R6: Total Expenditure (Rs.) | S6: Bill in hands (Rs) | T6: No of Beneficiaries | U6: Remarks
G7: A | H7: B | L7: C | M7: D | N7: E | O7: F | P7: G
H8: B -1 | I8: B -2 | J8: B-3 | K8: B-4
G9: Estimates are being/ to be prepared | H9: Estimate Approved & Bid Document Approved | I9: Quotation / Bid Called | J9: Quotation / Bid Received | K9: Contract Awarded | L9: 26-40% | M9: 41-60% | N9: 61-80% | O9: 81-99% | P9: Construction | Q9: Goods & Services
A10: 1 | B10: Divisional Secretariat, Aththanagalla
A11: 2 | B11: Urban Council, ……
A12: 3 | B12: Pradeshiya Sabha, Aththanagalla
A13: 4 | B13: Zonal Education Director,………
A14: 5 | B14: Divisional Engineer ,………………
A15: Sub Total | D15: =SUM(D10:D14) -> 0 | E15: =SUM(E10:E14) -> 0 | F15: =SUM(F10:F14) -> 0 | G15: =SUM(G10:G14) -> 0 | H15: =SUM(H10:H14) -> 0 | I15: =SUM(I10:I14) -> 0 | J15: =SUM(J10:J14) -> 0 | K15: =SUM(K10:K14) -> 0 | ... S15: =SUM(S10:S14) -> 0
A16: Admin cost
A17: Total

Sheet RP - Detail  Progress (2)
A1: පිරිවෙන් සංවර්ධනය
A2: Piriven Development Programme - 2024 Programme - 2024
A3: Physical and Financial Progress as at 09th August 2024
A4: District:-Gampaha
A5: Divisional Secreteriat- | I5: Aththanagalla
A6: No. | B6: ග්‍රාම නිලධාරි වසම | C6: Project No | I6: Name of the Project | J6: Approved Amount (Rs)
C8: Division | D8: Programme | E8: Authority | F8: Sector | G8: No | H8: Year
A10: 1 | B10: 329ඒ, හිරිපිටිය දකුණ | C10: ATT | D10: TEM | E10: 16 | F10: 122 | G10: 1 | H10: 2024 | I10: ශ්‍රී ප්‍රඥාසාර මූලික පිරිවෙනෙහි පිරිවෙන් ශාලාව ප්‍රතිසංස්කරණය කිරීම | J10: 165000
A11: 2 | B11: 370 පරණගම | C11: ATT | D11: TEM | E11: 16 | F11: 122 | G11: 2 | H11: 2024 | I11: බප/ගම්/ ශ්‍රී විද්‍යාසාර මූලික පිරිවෙනෙහි සනීපාරක්ෂක පහසුකම් සංවර්ධනය කිරීම | J11: 150000
A12: 3 | B12: 324 බෙම්මුල්ල | C12: ATT | D12: TEM | E12: 16 | F12: 122 | G12: 3 | H12: 2024 | I12: ශ්‍රී වර්ධන මූලික පිරිවෙනෙහි සනීපාරක්ෂක පහසුකම් | J12: 500000
A13: 4 | B13: 353බී, වළලියද්ද | C13: ATT | D13: TEM | E13: 16 | F13: 122 | G13: 4 | H13: 2024 | I13: බප/ගම්/ සිරි සුමංගල විද්‍යායතන පිරිවෙනෙහි සනීපාරක්ෂක පහසුකම් සංවර්ධනය කිරීම | J13: 500000

Sheet ප්‍රගතිය- ගිණුම් අංශය
P1: ඇමුණූම 01
A2: පිරිවෙන් ගොඩනැගිලි අලුත්වැඩියා කිරීමේ වැඩසටහන 2024
A3: 2024.08.20 දිනට ප්‍රගතිය
A4: දිස්ත්‍රික්කය - ගම්පහ
A5: ප්‍රාදේශීය ලේකම් කොට්ඨාසය - අත්තනගල්ල
A7: Divisional Secreteriat- | H7: Aththanagalla
A8: අනු අංකය | B8: ව්‍යාපෘතියේ අංකය | H8: ව්‍යාපෘතියේ නම | I8: ඇස්තමේන්තුගත මුදල රු. | J8: මූල්‍ය ප්‍රගතිය | M8: භෞතික ප්‍රගතිය
J11: අනුමත මුදල (රු.) | K11: නිදහස් කළ මුදල (රු.) | L11: වාර් තා කෙරෙන මාසයේ අවසාන දිනට මුළු වියදම රු. | M11: වැඩ ආරම්භ කර ඇත. ප්‍රගතිය 0 - 25% | N11: වැඩ කෙරීගෙන යයි. 25% - 50% | O11: වැඩ අවසන්. ප්‍රගතිය 50% - 95% | P11: ගෙවීම්කර ඇත. ප්‍රගතිය 95% - 100% | Q11: වෙනත්
A12: 1 | B12: ATT | C12: TEM | D12: 16 | E12: 122 | F12: 1 | G12: 2024 | H12: ශ්‍රී ප්‍රඥාසාර මූලික පිරිවෙනෙහි පිරිවෙන් ශාලාව ප්‍රතිසංස්කරණය කිරීම | I12: 165000 | J12: 165000 | L12: 0 | O12: √
A13: 2 | B13: ATT | C13: TEM | D13: 16 | E13: 122 | F13: 2 | G13: 2024 | H13: බප/ගම්/ ශ්‍රී විද්‍යාසාර මූලික පිරිවෙනෙහි සනීපාරක්ෂක පහසුකම් සංවර්ධනය කිරීම | I13: 150000 | J13: 150000 | L13: 0 | N13: √
A14: 3 | B14: ATT | C14: TEM | D14: 16 | E14: 122 | F14: 3 | G14: 2024 | H14: ශ්‍රී වර්ධන මූලික පිරිවෙනෙහි සනීපාරක්ෂක පහසුකම් | I14: 500000 | J14: 500000 | L14: 0 | O14: √
A15: 4 | B15: ATT | C15: TEM | D15: 16 | E15: 122 | F15: 4 | G15: 2024 | H15: බප/ගම්/ සිරි සුමංගල විද්‍යායතන පිරිවෙනෙහි සනීපාරක්ෂක පහසුකම් සංවර්ධනය කිරීම | I15: 500000 | J15: 500000 | L15: 0 | N15: √
A16: Sub Total | I16: =SUM(I12:I15) -> 1315000 | J16: =SUM(J12:J15) -> 1315000 | L16: 0
A19: සකස් කළේ - | J19: පරීක්ෂා කළේ - | P19: අනුමත කළේ -

Sheet ප්‍රාලේ
A1: Decentralized Capital Budget Programme - 2019 - Gampaha District
A2: Physical and Financial Progress of the 2019.06.22
A3: Divisional Secretariat Division (a) | J3: Name: Ja Ela | AA3: Annexure/DCB/02
J4: No: | AA4: Detail Progress
A5: SN | B5: Project No | I5: Name of MP | J5: Name of Project | K5: G.N. Division (b) | M5: Type of Project (Construction / Goods & Services) | N5: Sector | O5: Allocation - Value of the Project (Rs.) | P5: Total Estimate Cost (Rs.) | R5: Contract Amount (Rs) | S5: Total Expenditure (Rs.) | T5: Unit of Measure | U5: Physical Progress (c) | AE5: No of Beneficiaries | AF5: Remarks
U6: A | V6: B | Z6: C | AA6: D | AB6: E | AC6: F | AD6: G
B7: Division | C7: MP No | D7: Programme | E7: Authority | F7: Sector | G7: No | H7: Year | K7: Name | L7: No | P7: With VAT | Q7: Without VAT | V7: B -1 | W7: B -2 | X7: B-3 | Y7: B-4
U8: 0-5% | V8: Estimate Approved & Bid Document Prepared | W8: Quotation / Bid Called | X8: Quotation / Bid Received | Y8: Contract Awarded | Z8: 26-40% | AA8: 40-60% | AB8: 61-80% | AC8: 81-99% | AD8: 1
A9: 1 | B9: JAELA | C9: 9 | D9: DCB | E9: 18 | F9: 142 | G9: 1 | H9: 2019 | I9: Ajith Mannapperuma | J9: ජා ඇල ප්‍රාදේශීය ලේකම් කොට්ඨාශයේ ස්වයං රැකියා පුහුණු පාඨමාලා පැවැත්වීම. | M9: Training Programs | O9: 200000 | U9: 1
A10: 2 | B10: JAELA | C10: 18 | D10: DCB | E10: 18 | F10: 121 | G10: 2 | H10: 2019 | I10: Vijitha Herath | J10: කළඑලිය ශාන්ත ජුවකීනු දේවස්ථාන දහම් පාසලේ ගොඩනැගිල්ල ඉදිකිරීම. | M10: Construction | O10: 200000 | P10: 200000 | AD10: 1
A11: 3 | B11: JAELA | C11: 18 | D11: DCB | E11: 18 | F11: 142 | G11: 3 | H11: 2019 | I11: Vijitha Herath | J11: පසුව නම් කරනු ලබන ස්ථාන වල ස්වයං රැකියා පුහුණු වැඩසටහන් පැවැත්වීම. | M11: Training Programs | O11: 100000 | U11: 1
A12: 4 | B12: JAELA | C12: 18 | D12: DCB | E12: 18 | F12: 516 | G12: 4 | H12: 2019 | I12: Vijitha Herath | J12: පසුව නම් කරනු ලබන පෙර පාසල් සඳහා උපකරණ ලබා දීම. | M12: Goods & Services) | O12: 50000 | W12: 1
A13: 5 | B13: JAELA | C13: 18 | D13: DCB | E13: 18 | F13: 152 | G13: 5 | H13: 2019 | I13: Vijitha Herath | J13: පසුව නම් කරනු ලබන සංස්කෘතික සංගම් සඳහා උපකරණ ලබා දීම. | M13: Goods & Services) | O13: 100000 | W13: 1
A14: 6 | B14: JAELA | C14: 15 | D14: DCB | E14: 18 | F14: 152 | G14: 6 | H14: 2019 | I14: Sisira Jayakodi | J14: ජා ඇල ප්‍රාදේශීය ලේකම් කොට්ඨාශයේ ලියාපදිංච් සමිති සඳහා උපකරණ ලබා දීම. | M14: Goods & Services) | O14: 300000 | P14: =#REF! -> #REF! | AD14: 1
A15: 7 | B15: JAELA | C15: 8 | D15: DCB | E15: 18 | F15: 152 | G15: 7 | H15: 2019 | I15: Nimal Lansa | J15: ජා ඇල ප්‍රාදේශීය ලේකම් කොට්ඨාශයේ ලියාපදිංච් නම් කරනු ලබන සමිති සමාගම් සඳහා ඇඳි නැති ප්ලාස්ටික් පුටු ලබා දීම. | M15: Goods & Services) | O15: 150000 | P15: =#REF! -> #REF! | AD15: 1
A16: 8 | B16: JAELA | C16: 9 | D16: DCB | E16: 18 | F16: 517 | G16: 8 | H16: 2019 | I16: Ajith Mannapperuma | J16: ජා ඇල ප්‍රාදේශීය ලේකම් කොට්ඨාශයේ තෝරාගත් පෙර පාසල් ගුරු මහත්මීන් සඳහා පුහුණු වැඩමුළු පැවැත්වීම. | M16: Training Programs | O16: 100000 | U16: 1
A17: 9 | B17: JAELA | C17: 18 | D17: DCB | E17: 18 | F17: 142 | G17: 9 | H17: 2019 | I17: Vijitha Herath | J17: ජා ඇල ප්‍රාදේශීය ලේකම් කොට්ඨාශයේ තරුණයින් සඳහා බරවාහන පුහුණුව හා ලයිසන් ලබා දීම. | M17: Training Programs | O17: 100000 | W17: 1
A18: 10 | B18: JAELA | C18: 8 | D18: DCB | E18: 18 | F18: 152 | G18: 10 | H18: 2019 | I18: Nimal Lansa | J18: ප්‍රාදේශීය ලේකම් කාර්යාලයේ ලියාපදිංචි ජා ඇල නිවන්දම සුහද සුභ සාධක සමිතිය සඳහා ෆොටෝකොපි යන්ත්‍රයක් සහ A/3 EBSOMI 1800 කලර් ෆොටෝකොපි ප්‍රින්ටරයක් ලබා දීම. | M18: Goods & Services) | O18: 300000 | U18: 1
A19: 11 | B19: JAELA | C19: 13 | D19: DCB | E19: 18 | F19: 152 | G19: 9 | H19: 2019 | J19: ජා ඇල ප්‍රාදේශීය ලේකම් කොට්ඨාශයේ ලියාපදිංචි සමිති සඳහා රෙදි හට් ලබා දීම.(කැනපි හට්) | M19: Goods & Services) | O19: 500000 | U19: 1
A20: 12 | B20: JAELA | C20: 13 | D20: DCB | E20: 18 | F20: 152 | G20: 10 | H20: 2019 | J20: ජා ඇල ප්‍රාදේශීය ලේකම් කොට්ඨාශයේ ලියාපදිංචි සමිති සඳහා කැනපි හට් ලබා දීම.(ෆුල් හට්) | M20: Goods & Services) | O20: 500000 | U20: 1
A21: 13 | B21: JAELA | C21: 13 | D21: DCB | E21: 18 | F21: 152 | G21: 11 | H21: 2019 | J21: ජා ඇල ප්‍රාදේශීය ලේකම් කොට්ඨාශයේ ලියාපදිංචි සමිති සඳහා ප්ලාස්ටික් පුටු ලබා දීම. | M21: Goods & Services) | O21: 200000 | U21: 1
A22: 14 | B22: JAELA | C22: 13 | D22: DCB | E22: 18 | F22: 173 | G22: 1 | H22: 2019 | J22: ජා ඇල ප්‍රාදේශීය ලේකම් කොට්ඨාශයේ ලියාපදිංච් ක්‍රීඩා සමිති හා සුභ සාධක සමිති සඳහා ක්‍රීඩා භාණ්ඩ ලබා දීම. | M22: Goods & Services) | O22: 500000 | U22: 1
A23: 15 | B23: JAELA | C23: 13 | D23: DCB | E23: 18 | F23: 515 | G23: 1 | H23: 2019 | J23: ජා ඇල ප්‍රාදේශීය ලේකම් කොට්ඨාශයේ ලියාපදිංචි පෙර පාසල් සංවර්ධනය කිරීම. | M23: Construction | O23: 240000 | U23: 1
A24: 16 | B24: JAELA | C24: 13 | D24: DCB | E24: 18 | F24: 122 | G24: 1 | H24: 2019 | J24: යක්කඩුව ශ්‍රී සද්ධර්මායෝද විහාරස්ථානයේ සංවර්ධන කටයුතු කිරීම. | M24: Construction | O24: 200000 | U24: 1
A25: 17 | B25: JAELA | C25: 13 | D25: DCB | E25: 18 | F25: 122 | G25: 2 | H25: 2019 | J25: ඒකල කුරුඳුවත්ත ශ්‍රී විමල කීර්ති පුෂ්පාරාමයේ සංවර්ධන කටයුතු කිරීම. | M25: Construction | O25: 200000 | U25: 1
A26: 18 | B26: JAELA | C26: 13 | D26: DCB | E26: 18 | F26: 122 | G26: 3 | H26: 2019 | J26: වල්පොල ශ්‍රී සුදත්තාරාමයේ සංවර්ධන කටයුතු කිරීම. | M26: Construction | O26: 100000 | U26: 1
A27: 19 | B27: JAELA | C27: 13 | D27: DCB | E27: 18 | F27: 122 | G27: 4 | H27: 2019 | J27: ඒකල ශ්‍රී අභිනවාරාමයේ සංවර්ධන කටයුතු කිරීම. | M27: Construction | O27: 100000 | U27: 1
A28: 20 | B28: JAELA | C28: 13 | D28: DCB | E28: 18 | F28: 122 | G28: 5 | H28: 2019 | J28: නිවන්දම ශ්‍රී දීපදුත්තාරාමයේ සංවර්ධන කටයුතු කිරීම. | M28: Construction | O28: 100000 | U28: 1
A29: 21 | B29: JAELA | C29: 13 | D29: DCB | E29: 18 | F29: 122 | G29: 6 | H29: 2019 | J29: ඒකල කුරුඳුවත්ත ශ්‍රීපාලි විහාරස්ථානයේ සංවර්ධන කටයුතු කිරීම. | M29: Construction | O29: 100000 | U29: 1
A30: 22 | B30: JAELA | C30: 13 | D30: DCB | E30: 18 | F30: 122 | G30: 7 | H30: 2019 | J30: පොල්පිටිමූකලාන ශ්‍රී වජිරාරාමයේ සංවර්ධන කටයුතු කිරීම. | M30: Construction | O30: 200000 | U30: 1
... A35: 27 | B35: JAELA | C35: 13 | D35: DCB | E35: 18 | F35: 122 | G35: 12 | H35: 2019 | J35: ජා ඇල වල්පොල විමලරත්නාරාම පුරාණ විහාරස්ථානයේ සංවර්ධන කටයුතු කිරීම. | M35: Construction | O35: 50000 | U35: 1
A36: 28 | B36: JAELA | C36: 13 | D36: DCB | E36: 18 | F36: 142 | G36: 7 | H36: 2019 | J36: ජා ඇල ප්‍රාදේශීය ලේකම් කොට්ඨාශයේ අඩු ආදායම්ලාභී තරුණ තරුණියන් සඳහා සැහැල්ලු හා බර වාහන රියදුරු බලපත්‍ර ලබා දීම. | M36: Training Programs | O36: =#REF! -> #REF! | U36: 1
A37: 29 | B37: JAELA | C37: 13 | D37: DCB | E37: 18 | F37: 142 | G37: 8 | H37: 2019 | J37: ජා ඇල ප්‍රාදේශීය ලේකම් කොට්ඨාශයේ කාන්තාවන් සඳහා ස්වයං රැකියා පුහුණුව ලබා දීම. | M37: Training Programs | O37: =#REF! -> #REF! | U37: 1
A38: 30 | B38: JAELA | C38: 14 | D38: DCB | E38: 18 | F38: 151 | G38: 1 | H38: 2019 | J38: රාගම තේවත්ත පාර සොයිසා නිවාස අවමංගල්‍යාධාර හා සුභසාධක සමිති ගොඩනැගිල්ලේ ඉතිරි වැඩ කටයුතු නිම කිරීම. | M38: Construction | O38: =#REF! -> #REF! | U38: 1
A39: 31 | B39: JAELA | C39: 6 | D39: DCB | E39: 18 | F39: 154 | G39: 1 | H39: 2019 | J39: 183 නාගොඩ පාතිමා මාවතේ පොතුහැර ළිඳ සංවර්ධනය කිරීම සඳහා | M39: Construction | O39: =#REF! -> #REF! | U39: 1
A40: 32 | B40: JAELA | C40: 6 | D40: DCB | E40: 18 | F40: 124 | G40: 1 | H40: 2019 | J40: 211 උතුරු බටගම ශ්‍රී සුමන විහාරස්ථානයේ දහම් පාසල් ගොඩනැගිල්ලේ වැඩ ආරම්භ කිරීම සඳහා | M40: Construction | O40: =#REF! -> #REF! | U40: 1
A41: 33 | B41: JAELA | C41: 6 | D41: DCB | E41: 18 | F41: 124 | G41: 2 | H41: 2019 | J41: රාගම වල්පොල ශ්‍රී විමලරත්නාරාමයේ ගුණානන්ද දහම් පාසල් ගොඩනැගිල්ලේ ඉතිරි වැඩ කටයුතු සඳහා | M41: Construction | O41: =#REF! -> #REF! | U41: 1
A42: 34 | B42: JAELA | C42: 7 | D42: DCB | E42: 18 | F42: 152 | G42: 12 | H42: 2019 | J42: ලිය සවිය කාන්තා කාර්යය සංවිධානය හා සුභ සාධක සමිතිය වෙත 10 × 20 තහඩු හට් 1 ක් හා ඇදි සහිත ප්ලාස්ටික් පුටු ලබා දීම. | M42: Goods & Services) | O42: =#REF! -> #REF! | U42: 1
A43: 35 | B43: JAELA | C43: 7 | D43: DCB | E43: 18 | F43: 152 | G43: 13 | H43: 2019 | J43: ඒකල ශාන්ත මැතිව්ස් දේවස්ථානය වෙත ඇදි රහිත ප්ලාස්ටික් පුටු ලබා දීම. | M43: Goods & Services) | O43: =#REF! -> #REF! | U43: 1
A44: 36 | B44: JAELA | C44: 7 | D44: DCB | E44: 18 | F44: 152 | G44: 14 | H44: 2019 | J44: කෘස්වත්ත නිර්මල දේවමාතා දේවස්ථානය වෙත 10 × 20 තහඩු හට් 1ක් හා ඇදි සහිත ප්ලාස්ටික් පුටු ලබා දීම. | M44: Goods & Services) | O44: =#REF! -> #REF! | U44: 1
...

Sheet නගර සභා
A1: Decentralized Capital Budget Programme - 2019 - Gampaha District
A2: Physical and Financial Progress of the 2019.06.22
A3: Divisional Secretariat Division (a) | J3: Name: Ja Ela | AA3: Annexure/DCB/02
J4: No: | AA4: Detail Progress
A5: SN | B5: Project No | I5: Name of MP | J5: Name of Project | K5: G.N. Division (b) | M5: Type of Project (Construction / Goods & Services) | N5: Sector | O5: Allocation - Value of the Project (Rs.) | P5: Total Estimate Cost (Rs.) | R5: Contract Amount (Rs) | S5: Total Expenditure (Rs.) | T5: Unit of Measure | U5: Physical Progress (c) | AE5: No of Beneficiaries | AF5: Remarks
U6: A | V6: B | Z6: C | AA6: D | AB6: E | AC6: F | AD6: G
B7: Division | C7: MP No | D7: Programme | E7: Authority | F7: Sector | G7: No | H7: Year | K7: Name | L7: No | P7: With VAT | Q7: Without VAT | V7: B -1 | W7: B -2 | X7: B-3 | Y7: B-4
U8: 0-5% | V8: Estimate Approved & Bid Document Prepared | W8: Quotation / Bid Called | X8: Quotation / Bid Received | Y8: Contract Awarded | Z8: 26-40% | AA8: 40-60% | AB8: 61-80% | AC8: 81-99% | AD8: 1
A9: 1 | B9: JAELA | C9: 13 | D9: DCB | E9: 34 | F9: 82 | G9: 1 | H9: 2019 | J9: ජා ඇල දෑල ශාන්ත මරියා පාසල ඉදිරිපිට පාර ගල් අතුරා තාර දැමීම. | O9: 250000 | U9: 1
A10: 2 | B10: JAELA | C10: 13 | D10: DCB | E10: 34 | F10: 171 | G10: 1 | H10: 2019 | J10: ජා ඇල 19/A ග්‍රාම නිලධාරී වසමේ දුම්රිය බඩු ගබඩා පාරේ පිහිටි වොලිබෝල් ක්‍රීඩා පිටිය සංවර්ධනය කිරීම. | O10: 100000 | U10: 1
A11: Total | O11: =SUM(O9:O10) -> 350000 | Q11: =SUM(Q9:Q10) -> 0 | U11: =SUM(U9:U10) -> 2
A13: (a) - Please see the Annexure No.3 for Divisional Secretariate Divisions Names & Nos.
A14: (b) - Please see the Annexure No.4 for Grama Niladhari Divisions Names & Nos.
A15: (c ) - Instructions to fill the Physical Progress
A17: Description for rating
A18: Estimate is being / to be prepared and initial works started
A19: Constructions:
B20: B - 1 = Estimates approved / Bid documents prepared,
B21: B - 2 = Quotation / Bid called
B22: B - 3 = Quotation / Bid Received
B23: B - 4 = Contract Awarded. (25% completed)
A24: Other : Identified Institutions / CBO's to provide Goods/ Instruments Obtain required list of goods, Estimated prepared
A25: Constructions : Started construction works , (40% completed) Other : Placed orders for goods / instruments
A26: Constructions : 60% Completed Other : Received goods / instruments as per the order
A27: Constructions : 80% Completed Other : Received goods / instruments as per the order
A28: Constructions : 99% Completed Other : Completed lists of goods to be given to beneficiaries
A29: Constructions : 100% Completed Other : Issued goods and instruments to identified institutions/ CBOs

Sheet ප්‍රා.ස
A1: Decentralized Capital Budget Programme - 2019 - Gampaha District
A2: Physical and Financial Progress - 2019.06.22
A3: Divisional Secretariat Division (a) | J3: Name: Ja Ela | V3: Annexure/DCB/02
J4: No: | V4: Detail Progress
A5: SN | B5: Project No | I5: Name of MP | J5: Name of Project | K5: G.N. Division (b) | M5: Type of Project (Construction / Goods & Services) | N5: Allocation - Value of the Project (Rs.) | O5: Total Estimate Cost (Rs.) | P5: Physical Progress (c) | Z5: No of Beneficiaries | AA5: Remarks
P6: A | Q6: B | U6: C | V6: D | W6: E | X6: F | Y6: G
B7: Division | C7: MP No | D7: Programme | E7: Authority | F7: Sector | G7: No | H7: Year | K7: Name | L7: No | O7: With VAT | Q7: B -1 | R7: B -2 | S7: B-3 | T7: B-4
P8: 0-5% | Q8: Estimate Approved & Bid Document Prepared | R8: Quotation / Bid Called | S8: Quotation / Bid Received | T8: Contract Awarded | U8: 26-40% | V8: 40-60% | W8: 61-80% | X8: 81-99% | Y8: 1
A9: 1 | B9: JAELA | C9: 18 | D9: DCB | E9: 35 | F9: 81 | G9: 1 | H9: 2019 | J9: රාගම වැව ළග,ගනේ පාර සුරුවම ළග පිහිටි අතුරු පාර (පැටීමා ප්‍රනාන්දු නිවස) කොන්ක්‍රීට් කිරීම. | N9: 200000 | O9: 200000 | P9: 1 | R9: 1
A10: 2 | B10: JAELA | C10: 13 | D10: DCB | E10: 35 | F10: 81 | G10: 3 | H10: 2019 | J10: මහවත්ත පැතුම් පියස 02 වන පටුමග මාවත කොන්ක්‍රීට් කිරීම. | N10: 250000 | P10: 1
A11: 3 | B11: JAELA | C11: 13 | D11: DCB | E11: 35 | F11: 81 | G11: 4 | H11: 2019 | J11: ජා ඇල මා එළිය ශාන්ත රීටා මාවතේ 1056 මාවත කොන්ක්‍රීට් කිරීම. | N11: 250000 | P11: 1
A12: 4 | B12: JAELA | C12: 13 | D12: DCB | E12: 35 | F12: 81 | G12: 5 | H12: 2019 | J12: ජා ඇල පොල්ගහහේන මාර්ගයේ පීටර් පෙරේරා මාවතේ පළමු අතුරු මාර්ගය කොන්ක්‍රීට් කිරීම. | N12: 250000 | P12: 1
A13: 5 | B13: JAELA | C13: 13 | D13: DCB | E13: 35 | F13: 81 | G13: 6 | H13: 2019 | J13: නිවන්දම සීක්කුවත්ත නිවාස යෝජනා ක්‍රමයේ වටරවුම් පාර ප්‍රධාන මාර්ගය කොන්ක්‍රීට් කිරීම. | N13: 250000 | P13: 1
A14: 6 | B14: JAELA | C14: 13 | D14: DCB | E14: 35 | F14: 171 | G14: 7 | H14: 2019 | J14: පොල්ගහහේන වාසනා ක්‍රීඩාංගනය සංවර්ධනය කිරීම. | N14: 250000 | P14: 1
A15: 7 | B15: JAELA | C15: 13 | D15: DCB | E15: 35 | F15: 131 | G15: 8 | H15: 2019 | J15: ජා ඇල ජයශ්‍රීගම බහුකාර්යය සේවා පියසේ ඉතිරි සංවර්ධන කටයුතු කිරීම. | N15: 150000 | P15: 1
A16: 8 | B16: JAELA | C16: 13 | D16: DCB | E16: 35 | F16: 81 | G16: 9 | H16: 2019 | J16: තුඩැල්ල සුදුවැල්ල කතෝලික සුසාන භූමියට පිවිසෙන මාර්ගය කොන්ක්‍රීට් කිරීම. | N16: 200000 | P16: 1
A17: 9 | B17: JAELA | C17: 7 | D17: DCB | E17: 35 | F17: 81 | G17: 10 | H17: 2019 | J17: ජා ඇල ඉඳිමින්න ශාන්ත අන්තෝනි මුණිදුන්ගේ සුරුවම අසළින් ලලිත් කුමාර මහතාගේ නිවස අසළ පාර කොන්ක්‍රීට් කිරීම . | N17: 250000 | P17: 1
A18: 10 | B18: JAELA | C18: 7 | D18: DCB | E18: 35 | F18: 81 | G18: 11 | H18: 2019 | J18: රාගම තේවත්ත ලුරුදු මාවතේ දුමින්ද සිල්වා මහතාගේ නිවස අසළ මාවත කොන්ක්‍රීට් කිරීම . | N18: 250000 | P18: 1
A19: Total | N19: =SUM(N9:N18) -> 2300000 | P19: =SUM(P10:P18) -> 9 | R19: =SUM(R9:R18) -> 1
A21: (a) - Please see the Annexure No.3 for Divisional Secretariate Divisions Names & Nos.
A22: (b) - Please see the Annexure No.4 for Grama Niladhari Divisions Names & Nos.
A23: (c ) - Instructions to fill the Physical Progress
A25: Description for rating
A26: Estimate is being / to be prepared and initial works started
A27: Constructions:
B28: B - 1 = Estimates approved / Bid documents prepared,
B29: B - 2 = Quotation / Bid called
B30: B - 3 = Quotation / Bid Received
B31: B - 4 = Contract Awarded. (25% completed)
A32: Other : Identified Institutions / CBO's to provide Goods/ Instruments Obtain required list of goods, Estimated prepared
A33: Constructions : Started construction works , (40% completed) Other : Placed orders for goods / instruments
A34: Constructions : 60% Completed Other : Received goods / instruments as per the order
A35: Constructions : 80% Completed Other : Received goods / instruments as per the order
A36: Constructions : 99% Completed Other : Completed lists of goods to be given to beneficiaries
A37: Constructions : 100% Completed Other : Issued goods and instruments to identified institutions/ CBOs

Sheet කලාප අධ්‍යාපන
A1: Decentralized Capital Budget Programme - 2019 - Gampaha District
A2: Physical and Financial Progress of the 2019.06.22
A3: Divisional Secretariat Division (a) | J3: Name: Ja Ela | AA3: Annexure/DCB/02
J4: No: | AA4: Detail Progress
A5: SN | B5: Project No | I5: Name of MP | J5: Name of Project | K5: G.N. Division (b) | M5: Type of Project (Construction / Goods & Services) | N5: Sector | O5: Allocation - Value of the Project (Rs.) | P5: Total Estimate Cost (Rs.) | R5: Contract Amount (Rs) | S5: Total Expenditure (Rs.) | T5: Unit of Measure | U5: Physical Progress (c) | AE5: No of Beneficiaries | AF5: Remarks
U6: A | V6: B | Z6: C | AA6: D | AB6: E | AC6: F | AD6: G
B7: Division | C7: MP No | D7: Programme | E7: Authority | F7: Sector | G7: No | H7: Year | K7: Name | L7: No | P7: With VAT | Q7: Without VAT | V7: B -1 | W7: B -2 | X7: B-3 | Y7: B-4
U8: 0-5% | V8: Estimate Approved & Bid Document Prepared | W8: Quotation / Bid Called | X8: Quotation / Bid Received | Y8: Contract Awarded | Z8: 26-40% | AA8: 40-60% | AB8: 61-80% | AC8: 81-99% | AD8: 1
A9: 1 | B9: JAELA | C9: 7 | D9: DCB | E9: 44 | F9: 53 | G9: 1 | H9: 2019 | J9: තුඩැල්ල නිමලමරියා බාලිකා විද්‍යාලයේ නව ගණිතාගාරය සඳහා සුහුරු පුවරුවක් (interactive white board) ලබා දීම. | O9: =#REF! -> #REF! | U9: 1
A11: Total | O11: =SUM(O9:O10) -> #REF! | Q11: =SUM(Q9:Q10) -> 0 | U11: =SUM(U9:U10) -> 1
A13: (a) - Please see the Annexure No.3 for Divisional Secretariate Divisions Names & Nos.
A14: (b) - Please see the Annexure No.4 for Grama Niladhari Divisions Names & Nos.
A15: (c ) - Instructions to fill the Physical Progress
A17: Description for rating
A18: Estimate is being / to be prepared and initial works started
A19: Constructions:
B20: B - 1 = Estimates approved / Bid documents prepared,
B21: B - 2 = Quotation / Bid called
B22: B - 3 = Quotation / Bid Received
B23: B - 4 = Contract Awarded. (25% completed)
A24: Other : Identified Institutions / CBO's to provide Goods/ Instruments Obtain required list of goods, Estimated prepared
A25: Constructions : Started construction works , (40% completed) Other : Placed orders for goods / instruments
A26: Constructions : 60% Completed Other : Received goods / instruments as per the order
A27: Constructions : 80% Completed Other : Received goods / instruments as per the order
A28: Constructions : 99% Completed Other : Completed lists of goods to be given to beneficiaries
A29: Constructions : 100% Completed Other : Issued goods and instruments to identified institutions/ CBOs

Sheet ප්‍රාදේශීය ඉංජිනේරු
A1: Decentralized Capital Budget Programme - 2019 - Gampaha District
A2: Physical and Financial Progress of the 2019.06.22
A3: Divisional Secretariat Division (a) | J3: Name: Ja Ela | AA3: Annexure/DCB/02
J4: No: | AA4: Detail Progress
A5: SN | B5: Project No | I5: Name of MP | J5: Name of Project | K5: G.N. Division (b) | M5: Type of Project (Construction / Goods & Services) | N5: Sector | O5: Allocation - Value of the Project (Rs.) | P5: Total Estimate Cost (Rs.) | R5: Contract Amount (Rs) | S5: Total Expenditure (Rs.) | T5: Unit of Measure | U5: Physical Progress (c) | AE5: No of Beneficiaries | AF5: Remarks
U6: A | V6: B | Z6: C | AA6: D | AB6: E | AC6: F | AD6: G
B7: Division | C7: MP No | D7: Programme | E7: Authority | F7: Sector | G7: No | H7: Year | K7: Name | L7: No | P7: With VAT | Q7: Without VAT | V7: B -1 | W7: B -2 | X7: B-3 | Y7: B-4
U8: 0-5% | V8: Estimate Approved & Bid Document Prepared | W8: Quotation / Bid Called | X8: Quotation / Bid Received | Y8: Contract Awarded | Z8: 26-40% | AA8: 40-60% | AB8: 61-80% | AC8: 81-99% | AD8: 1
A9: 1 | B9: JAELA | C9: 13 | D9: DCB | E9: 50 | F9: 171 | G9: 1 | H9: 2019 | J9: පේරලන්ද කනිෂ්ඨ ද්වීතීක විද්‍යාලයේ ක්‍රීඩාපිටියේ ඉතිරි කොටස සංවර්ධනය කිරීම. | O9: =#REF! -> #REF! | U9: 1
A11: Total | O11: =SUM(O9:O10) -> #REF! | Q11: =SUM(Q9:Q10) -> 0 | U11: =SUM(U9:U10) -> 1
A13: (a) - Please see the Annexure No.3 for Divisional Secretariate Divisions Names & Nos.
A14: (b) - Please see the Annexure No.4 for Grama Niladhari Divisions Names & Nos.
A15: (c ) - Instructions to fill the Physical Progress
A17: Description for rating
A18: Estimate is being / to be prepared and initial works started
A19: Constructions:
B20: B - 1 = Estimates approved / Bid documents prepared,
B21: B - 2 = Quotation / Bid called
B22: B - 3 = Quotation / Bid Received
B23: B - 4 = Contract Awarded. (25% completed)
A24: Other : Identified Institutions / CBO's to provide Goods/ Instruments Obtain required list of goods, Estimated prepared
A25: Constructions : Started construction works , (40% completed) Other : Placed orders for goods / instruments
A26: Constructions : 60% Completed Other : Received goods / instruments as per the order
A27: Constructions : 80% Completed Other : Received goods / instruments as per the order
A28: Constructions : 99% Completed Other : Completed lists of goods to be given to beneficiaries
A29: Constructions : 100% Completed Other : Issued goods and instruments to identified institutions/ CBOs
